BEGIN:VCALENDAR
VERSION:2.0
PRODID:spatie/icalendar-generator
NAME:P&P Congrès Paris 2026
X-WR-CALNAME:P&P Congrès Paris 2026
BEGIN:VTIMEZONE
TZID:Europe/Paris
BEGIN:STANDARD
DTSTART:20251026T030000
TZOFFSETFROM:+0200
TZOFFSETTO:+0100
END:STANDARD
BEGIN:DAYLIGHT
DTSTART:20260329T010000
TZOFFSETFROM:+0100
TZOFFSETTO:+0200
END:DAYLIGHT
END:VTIMEZONE
BEGIN:VTIMEZONE
TZID:UTC
BEGIN:STANDARD
DTSTART:20250725T083153
TZOFFSETFROM:+0000
TZOFFSETTO:+0000
END:STANDARD
END:VTIMEZONE
BEGIN:VEVENT
UID:69e735f913170
DTSTAMP:20260421T083153Z
SUMMARY:Congrès P&P - Palais Des Congrès
DTSTART;TZID=Europe/Paris:20260418T000000
DTEND;TZID=Europe/Paris:20260418T000000
END:VEVENT
END:VCALENDAR