BEGIN:VCALENDAR
VERSION:2.0
PRODID:spatie/icalendar-generator
NAME:P&P Congrès Montpellier 2026
X-WR-CALNAME:P&P Congrès Montpellier 2026
BEGIN:VTIMEZONE
TZID:Europe/Paris
BEGIN:DAYLIGHT
DTSTART:20260329T010000
TZOFFSETFROM:+0100
TZOFFSETTO:+0200
END:DAYLIGHT
BEGIN:STANDARD
DTSTART:20261025T030000
TZOFFSETFROM:+0200
TZOFFSETTO:+0100
END:STANDARD
BEGIN:DAYLIGHT
DTSTART:20270328T010000
TZOFFSETFROM:+0100
TZOFFSETTO:+0200
END:DAYLIGHT
END:VTIMEZONE
BEGIN:VTIMEZONE
TZID:UTC
BEGIN:STANDARD
DTSTART:20250727T015854
TZOFFSETFROM:+0000
TZOFFSETTO:+0000
END:STANDARD
END:VTIMEZONE
BEGIN:VEVENT
UID:69e97cdec7792
DTSTAMP:20260423T015854Z
SUMMARY:Congrès P&P - Le Corum\, Palais Des Congrès
DTSTART;TZID=Europe/Paris:20261128T000000
DTEND;TZID=Europe/Paris:20261128T000000
END:VEVENT
END:VCALENDAR