BEGIN:VCALENDAR
VERSION:2.0
PRODID:spatie/icalendar-generator
NAME:P&P Congrès Saint Etienne 2027
X-WR-CALNAME:P&P Congrès Saint Etienne 2027
BEGIN:VTIMEZONE
TZID:Europe/Paris
BEGIN:STANDARD
DTSTART:20261025T030000
TZOFFSETFROM:+0200
TZOFFSETTO:+0100
END:STANDARD
BEGIN:DAYLIGHT
DTSTART:20270328T010000
TZOFFSETFROM:+0100
TZOFFSETTO:+0200
END:DAYLIGHT
END:VTIMEZONE
BEGIN:VTIMEZONE
TZID:UTC
BEGIN:STANDARD
DTSTART:20250727T020020
TZOFFSETFROM:+0000
TZOFFSETTO:+0000
END:STANDARD
END:VTIMEZONE
BEGIN:VEVENT
UID:69e97d346f911
DTSTAMP:20260423T020020Z
SUMMARY:Congrès P&P - Centre De Congrès
DTSTART;TZID=Europe/Paris:20270306T000000
DTEND;TZID=Europe/Paris:20270306T000000
END:VEVENT
END:VCALENDAR